BEGIN:VCALENDAR
VERSION:2.0
PRODID:-//Harford Family House - ECPv6.15.17//NONSGML v1.0//EN
CALSCALE:GREGORIAN
METHOD:PUBLISH
X-ORIGINAL-URL:https://harfordfamilyhouse.org
X-WR-CALDESC:Events for Harford Family House
REFRESH-INTERVAL;VALUE=DURATION:PT1H
X-Robots-Tag:noindex
X-PUBLISHED-TTL:PT1H
BEGIN:VTIMEZONE
TZID:America/New_York
BEGIN:DAYLIGHT
TZOFFSETFROM:-0500
TZOFFSETTO:-0400
TZNAME:EDT
DTSTART:20230312T070000
END:DAYLIGHT
BEGIN:STANDARD
TZOFFSETFROM:-0400
TZOFFSETTO:-0500
TZNAME:EST
DTSTART:20231105T060000
END:STANDARD
BEGIN:DAYLIGHT
TZOFFSETFROM:-0500
TZOFFSETTO:-0400
TZNAME:EDT
DTSTART:20240310T070000
END:DAYLIGHT
BEGIN:STANDARD
TZOFFSETFROM:-0400
TZOFFSETTO:-0500
TZNAME:EST
DTSTART:20241103T060000
END:STANDARD
BEGIN:DAYLIGHT
TZOFFSETFROM:-0500
TZOFFSETTO:-0400
TZNAME:EDT
DTSTART:20250309T070000
END:DAYLIGHT
BEGIN:STANDARD
TZOFFSETFROM:-0400
TZOFFSETTO:-0500
TZNAME:EST
DTSTART:20251102T060000
END:STANDARD
END:VTIMEZONE
BEGIN:VEVENT
DTSTART;TZID=America/New_York:20240515T170000
DTEND;TZID=America/New_York:20240515T200000
DTSTAMP:20260423T104611
CREATED:20240419T130432Z
LAST-MODIFIED:20240419T131615Z
UID:869-1715792400-1715803200@harfordfamilyhouse.org
SUMMARY:Ahoy! 2024
DESCRIPTION:Join us for Ahoy! Cocktails by the Bay\, a one-of-a-kind networking event and fundraiser benefiting Harford Family House. \nThis annual Happy Hour offers signature cocktails\, lavish hor d’ouerves by Crossroads Bistro\, gorgeous waterfront views\, live music\, silent auction and more! \nThe theme for this year is 80’s Music Icons!  Come on out and relive the 80’s with us! \n\n  \nBuy your tickets and consider sponsoring one of our Icons by clicking their name below and making a donation today! \nElton John played by Tony DiPaula of DiPaula Law.\nBilly Idol played by Scott Keck of Merrill\n“The Boss” Bruce Springsteen played by Jason Dieter of Harford Bank\nMadonna played by Erin McComas of Har-co Federal Credit Union\nTina Turner played by Essie Bennett of Aberdeen Proving Ground\nCher played by Michelle Barwick of the ONE Group of Samson Properties\nStevie Nicks played by Diane Stengstacke of Stengstacke Law\, LLC and Home Title Company of MD Inc.\nPat Benatar played by Judy Schaffer of E & I Cooperative Services \n 
URL:https://harfordfamilyhouse.org/event/ahoy-2024/
LOCATION:La Banque de Fleuve\, 321 Saint John St.\, Havre de Grace\, Maryland\, 21078
END:VEVENT
END:VCALENDAR